BEGIN:VCALENDAR
VERSION:2.0
PRODID:-//AudioTheme 3.0.1
BEGIN:VEVENT
UID:urn:uuid:499cfaee-69b9-47a2-aca9-7bc7c153ef83
URL:https://yvesmariebellot.fr/shows/concert-a-yzeure/
DTSTART;TZID=GMT:20220220T000000
SUMMARY:concert à Yzeure
DESCRIPTION:Concert privé chez un particulier\, en plateau partagé avec Anne-Lise Roche.
LOCATION:Concert à Yzeure (03)\, Yzeure\, \, 03000
END:VEVENT
END:VCALENDAR
