BEGIN:VCALENDAR
VERSION:2.0
PRODID:-//AudioTheme 3.0.1
BEGIN:VEVENT
UID:urn:uuid:d0dd32cf-c87b-4f55-88d7-d148c25cf58e
URL:https://yvesmariebellot.fr/shows/concert-a-yssingeaux-43/
DTSTART;TZID=GMT:20230131T000000
SUMMARY:Concert à Yssingeaux (43)
DESCRIPTION:Concert en solo à LEGTA George Sand à Yssingeaux  (43)
LOCATION:LEGTA George Sand\, 85 route de Queyrières\, Yssingeaux\, \, 43200
END:VEVENT
END:VCALENDAR
