BEGIN:VCALENDAR
VERSION:2.0
PRODID:-//AudioTheme 3.0.1
BEGIN:VEVENT
UID:urn:uuid:9ea10664-dfe5-4c25-9291-3d87f584692e
URL:https://yvesmariebellot.fr/shows/concert-a-st-just-en-chevalet/
DTSTART;TZID=GMT:20240217T000000
SUMMARY:Concert à St Just en Chevalet
DESCRIPTION:Concert pour un événement privé à St Just en Chevalet (42) avec le projet Côté Folk (reprises chanson Française)
LOCATION:évènement privé\, variable
END:VEVENT
END:VCALENDAR
