BEGIN:VCALENDAR
VERSION:2.0
PRODID:-//AudioTheme 3.0.1
BEGIN:VEVENT
UID:urn:uuid:33abfc20-52de-45b1-b1e3-2670aa773db3
URL:https://yvesmariebellot.fr/shows/concert-a-mercure-charbonniere/
DTSTART;TZID=GMT:20230616T000000
SUMMARY:Concert à Mercure Charbonnière
DESCRIPTION:Concert dans le cadre des concerts d'été de l'Hôtel Mercure Lyon Charbonnière
LOCATION:Hôtel Mercure Lyon Charbonnière\, 78 bis route de Paris Route nationale 7\, Charbonnières-les-Bains\, \, 69260
END:VEVENT
END:VCALENDAR
