BEGIN:VCALENDAR
VERSION:2.0
PRODID:-//AudioTheme 3.0.1
BEGIN:VEVENT
UID:urn:uuid:2341daf4-bd52-48e4-bf7c-d374a252d2ba
URL:https://yvesmariebellot.fr/shows/concert-a-linter-mitemps/
DTSTART;TZID=GMT:20170428T000000
SUMMARY:Concert à l'Inter-Mitemps
DESCRIPTION:Concert à l'Inter-Mitemps
LOCATION:L'Inter-Mitemps\, 7 rue pasteur\, Moulins\, \, 03000
END:VEVENT
END:VCALENDAR
