BEGIN:VCALENDAR
VERSION:2.0
PRODID:-//AudioTheme 3.0.1
BEGIN:VEVENT
UID:urn:uuid:cb7d9a49-8e97-4c47-a377-e55d79bc1d43
URL:https://yvesmariebellot.fr/shows/concert-a-laero-bron/
DTSTART;TZID=GMT:20210711T000000
SUMMARY:Concert à l'Aéro - Bron
DESCRIPTION:Concert Yves marie belloT (solo) à l'Aéro.
LOCATION:L’AERO\, Aéroport de Bron\, Bron\, \, 69500
END:VEVENT
END:VCALENDAR
