BEGIN:VCALENDAR
VERSION:2.0
PRODID:-//AudioTheme 3.0.1
BEGIN:VEVENT
UID:urn:uuid:274c6482-bdd6-4204-9a7b-facecae67c6c
URL:https://yvesmariebellot.fr/shows/concert-a-la-mjc-de-mazamet/
DTSTART;TZID=GMT:20230317T000000
SUMMARY:Concert à la MJC de Mazamet
DESCRIPTION:Concert à la MJC de Mazamet (81) en duo avec Clément.
LOCATION:MJC Mazamet\, 10 rue de juillet\, Mazamet\, \, 81200
END:VEVENT
END:VCALENDAR
