BEGIN:VCALENDAR
VERSION:2.0
PRODID:-//AudioTheme 3.0.1
BEGIN:VEVENT
UID:urn:uuid:1c2521f6-92d6-4890-9d39-ebb1b07b8c2f
URL:https://yvesmariebellot.fr/shows/concert-a-la-manufacture-chanson/
DTSTART;TZID=GMT:20210929T000000
SUMMARY:Concert à la Manufacture Chanson
DESCRIPTION:Concert Yves marie belloT (duo)  ********************  Tarif plein : 16 €  Tarif préférentiel : 13 € (+ de 70 ans et «PassCulture11»)  Tarif réduit : 11 € (étudiants\, – de 26 ans\, demandeurs d’emploi\, membres « Scopain » de la Manufacture Chanson)  Tarif minus 3 € (enfants – de 12 ans et détenteurs du Pass « Découverte »)  Renseignements et réservations : 01 43 58 19 94 ou sur https://bit.ly/36KzBPm
LOCATION:ACP La Manufacture Chanson\, 124 avenue de la République\, Paris\, \, 75011
END:VEVENT
END:VCALENDAR
