BEGIN:VCALENDAR
VERSION:2.0
PRODID:-//AudioTheme 3.0.1
BEGIN:VEVENT
UID:urn:uuid:9a5f17e2-af7e-4ffd-9dc2-aa482af3e93e
URL:https://yvesmariebellot.fr/shows/concert-a-la-maison-panis/
DTSTART;TZID=GMT:20230526T000000
SUMMARY:Concert à La maison Panis
DESCRIPTION:Concert à La maison Panis - Vaux-en-Bugey (01) en duo avec Angelina Pelluet
LOCATION:La maison Panis\, Rue des Terreaux\, Vaux en Bugey\, \, 01150
END:VEVENT
END:VCALENDAR
