BEGIN:VCALENDAR
VERSION:2.0
PRODID:-//AudioTheme 3.0.1
BEGIN:VEVENT
UID:urn:uuid:8ee6641f-9e6b-4460-aca1-2f70e9679c58
URL:https://yvesmariebellot.fr/shows/concert-a-la-loge/
DTSTART;VALUE=DATE:20201108
SUMMARY:Concert à la Loge
DESCRIPTION:Concert Yves marie belloT (solo) +La Gammine  Prix libre.  (concert reporté : covid-19)
LOCATION:La loge\, Route d’autre Issards\, Bourbon l’archambault\, \, 03160
END:VEVENT
END:VCALENDAR
