BEGIN:VCALENDAR
VERSION:2.0
PRODID:-//AudioTheme 3.0.1
BEGIN:VEVENT
UID:urn:uuid:605e3b77-761b-4903-8c70-f19d2806702d
URL:https://yvesmariebellot.fr/shows/concert-a-la-loge-2/
DTSTART;TZID=GMT:20210722T000000
SUMMARY:Concert à la loge
DESCRIPTION:Concert Yves marie belloT (solo) + La Gammine  Sortie de résidence commune.  Prix libre.
LOCATION:La loge\, Route d’autre Issards\, Bourbon l’archambault\, \, 03160
END:VEVENT
END:VCALENDAR
