BEGIN:VCALENDAR
VERSION:2.0
PRODID:-//AudioTheme 3.0.1
BEGIN:VEVENT
UID:urn:uuid:96ba02e1-a2fd-4d8b-b93c-dae128fd675c
URL:https://yvesmariebellot.fr/shows/concert-a-la-grange-de-corgenay/
DTSTART;TZID=GMT:20231126T000000
SUMMARY:Concert à la Grange de Corgenay
DESCRIPTION:Concert à la Grange de Corgenay dans le cadre du cabaret du collectif Hubertine Auclert.  En co-plateau avec Anne-Lise Roche\, avec quelques chansons partagées !
LOCATION:Grange de Corgenay\, Grange de Corgenay\, Neuvy\, \, 0300
END:VEVENT
END:VCALENDAR
