BEGIN:VCALENDAR
VERSION:2.0
PRODID:-//AudioTheme 3.0.1
BEGIN:VEVENT
UID:urn:uuid:0136e944-7c52-4f81-b571-fbf84d1abe75
URL:https://yvesmariebellot.fr/shows/concert-a-la-biolle/
DTSTART;TZID=GMT:20221017T000000
SUMMARY:Concert à la Biolle
DESCRIPTION:Concert à la Biolle (73) en duo avec Clément.  Prix libre  
LOCATION:Café des Arts\, Salle de l'Ébène 492 Rue de l'Ébène\, La Biolle\, \, 73410
END:VEVENT
END:VCALENDAR
