BEGIN:VCALENDAR
VERSION:2.0
PRODID:-//AudioTheme 3.0.1
BEGIN:VEVENT
UID:urn:uuid:9861d7a8-9db1-4810-bc8a-5eaffaac1c57
URL:https://yvesmariebellot.fr/shows/concert-a-clef-cafe-lecture/
DTSTART;TZID=GMT:20180216T000000
SUMMARY:Concert à La Clef - Café Lecture
DESCRIPTION:Concert à La Clef - Café Lecture  Prix libre.
LOCATION:La Clef - Café Lecture\, 53 rue de la Pardige\, Brioude\, \, 43100
END:VEVENT
END:VCALENDAR
