BEGIN:VCALENDAR
VERSION:2.0
PRODID:-//AudioTheme 3.0.1
BEGIN:VEVENT
UID:urn:uuid:acc9f0b9-051f-45ef-ba1a-f17ed26511ab
URL:https://yvesmariebellot.fr/shows/concert-a-chalmazel-42/
DTSTART;TZID=GMT:20211030T000000
SUMMARY:Concert à Chalmazel (42)
DESCRIPTION:Concert privé chez l'habitant. Informations et réservations possible par message privé (contact@yvesmariebellot.fr)
LOCATION:Concert à Chalmazel (42)\, Chalmazel\, \, 42039
END:VEVENT
END:VCALENDAR
