BEGIN:VCALENDAR
VERSION:2.0
PRODID:-//AudioTheme 3.0.1
BEGIN:VEVENT
UID:urn:uuid:7f15a359-304a-404e-828d-5960d18320ef
URL:https://yvesmariebellot.fr/shows/concert-a-boite-a-gants/
DTSTART;TZID=GMT:20170923T000000
SUMMARY:Concert à La Boîte à Gants
DESCRIPTION:Concert en co plateau avec Lorelai Brunelle.
LOCATION:La Boîte à Gants\, 6 Rue Pierre Blanc\, Lyon\, \, 69001
END:VEVENT
END:VCALENDAR
