BEGIN:VCALENDAR
VERSION:2.0
PRODID:-//AudioTheme 3.0.1
BEGIN:VEVENT
UID:urn:uuid:2325d410-7ad8-417c-ab18-8540a9797d35
URL:https://yvesmariebellot.fr/shows/concert-a-allegre-43/
DTSTART;TZID=GMT:20230218T000000
SUMMARY:Concert à Allègre  (43)
DESCRIPTION:Concert en solo à La Coccinelle - Allègre  (43)
LOCATION:La Coccinelle\, 8 rue Notre-Dame de l’Oratoire\, Allègre\, \, 43270
END:VEVENT
END:VCALENDAR
