BEGIN:VCALENDAR
VERSION:2.0
PRODID:-//AudioTheme 3.0.1
BEGIN:VEVENT
UID:urn:uuid:182adf85-5639-4637-93c0-f525692ac9bd
URL:https://yvesmariebellot.fr/shows/concert-a-agendarts/
DTSTART;VALUE=DATE:20171020
SUMMARY:Concert à agend’Arts
DESCRIPTION:Concert en co plateau avec Melba  Tarif: 8 / 13 euros.
LOCATION:Agend'Arts\, 4 rue Belfort\, Lyon\, \, 69004
END:VEVENT
END:VCALENDAR
