BEGIN:VCALENDAR
VERSION:2.0
PRODID:-//AudioTheme 3.0.1
BEGIN:VEVENT
UID:urn:uuid:75a39a38-0fab-4c22-8315-811b1961bb39
URL:https://yvesmariebellot.fr/shows/concert-a-agendarts-7/
DTSTART;TZID=GMT:20230430T000000
SUMMARY:Concert à Agend'Arts
DESCRIPTION:Concert à Agend'Arts en duo avec Angelina Pelluet  https://www.helloasso.com/associations/agend-arts/evenements/dimanche-30-avril-a-20h-angelina-pelluet-accompagnee-d-yves-marie-bellot-2
LOCATION:Agend'Arts\, 4 rue Belfort\, Lyon\, \, 69004
END:VEVENT
END:VCALENDAR
