BEGIN:VCALENDAR
VERSION:2.0
PRODID:-//AudioTheme 3.0.1
BEGIN:VEVENT
UID:urn:uuid:7e13b5a3-765f-46b9-abbe-54bd37f550fc
URL:https://yvesmariebellot.fr/shows/concert-a-agendarts-5/
DTSTART;TZID=GMT:20211126T000000
SUMMARY:Concert  à Agend'Arts
DESCRIPTION:Concert Yves marie belloT (solo) en co-plateau AnneliSe Roche  Tarif : 5/10€
LOCATION:Agend'Arts\, 4 rue Belfort\, Lyon\, \, 69004
END:VEVENT
END:VCALENDAR
