BEGIN:VCALENDAR
VERSION:2.0
PRODID:-//AudioTheme 3.0.1
BEGIN:VEVENT
UID:urn:uuid:ab9d2cb6-ced8-40ca-96ed-3db07ee00368
URL:https://yvesmariebellot.fr/shows/chantons-dans-la-loire-concert-ephemere/
DTSTART;TZID=GMT:20230121T000000
SUMMARY:Chantons dans la Loire (concert éphémère)
DESCRIPTION:Concert au Théâtre des pénitents à Montbrison (42) dans le cadre du dispositif "Chantons dans la Loire"
LOCATION:Théâtre des Pénitents\, Place des Pénitents\, Montbrison\, \, 42600
END:VEVENT
END:VCALENDAR
