BEGIN:VCALENDAR
VERSION:2.0
PRODID:-//AudioTheme 3.0.1
BEGIN:VEVENT
UID:urn:uuid:27534efe-eacc-40b2-8cc3-96036c53edeb
URL:https://yvesmariebellot.fr/shows/carte-blanche-a-helene-piris/
DTSTART;TZID=GMT:20191215T000000
SUMMARY:Carte blanche à Hélène Piris
DESCRIPTION:Carte blanche à Hélène Piris.  Tarif : 5 / 10 euros.
LOCATION:Agend'Arts\, 4 rue Belfort\, Lyon\, \, 69004
END:VEVENT
END:VCALENDAR
